BEGIN:VCALENDAR
VERSION:2.0
PRODID:-//Reconcile UK - ECPv6.15.16.1//NONSGML v1.0//EN
CALSCALE:GREGORIAN
METHOD:PUBLISH
X-ORIGINAL-URL:https://reconcileuk.com
X-WR-CALDESC:Events for Reconcile UK
REFRESH-INTERVAL;VALUE=DURATION:PT1H
X-Robots-Tag:noindex
X-PUBLISHED-TTL:PT1H
BEGIN:VTIMEZONE
TZID:Europe/Paris
BEGIN:DAYLIGHT
TZOFFSETFROM:+0100
TZOFFSETTO:+0200
TZNAME:CEST
DTSTART:20240331T010000
END:DAYLIGHT
BEGIN:STANDARD
TZOFFSETFROM:+0200
TZOFFSETTO:+0100
TZNAME:CET
DTSTART:20241027T010000
END:STANDARD
BEGIN:DAYLIGHT
TZOFFSETFROM:+0100
TZOFFSETTO:+0200
TZNAME:CEST
DTSTART:20250330T010000
END:DAYLIGHT
BEGIN:STANDARD
TZOFFSETFROM:+0200
TZOFFSETTO:+0100
TZNAME:CET
DTSTART:20251026T010000
END:STANDARD
BEGIN:DAYLIGHT
TZOFFSETFROM:+0100
TZOFFSETTO:+0200
TZNAME:CEST
DTSTART:20260329T010000
END:DAYLIGHT
BEGIN:STANDARD
TZOFFSETFROM:+0200
TZOFFSETTO:+0100
TZNAME:CET
DTSTART:20261025T010000
END:STANDARD
END:VTIMEZONE
BEGIN:VTIMEZONE
TZID:UTC
BEGIN:STANDARD
TZOFFSETFROM:+0000
TZOFFSETTO:+0000
TZNAME:UTC
DTSTART:20240101T000000
END:STANDARD
END:VTIMEZONE
BEGIN:VTIMEZONE
TZID:UTC
BEGIN:STANDARD
TZOFFSETFROM:+0000
TZOFFSETTO:+0000
TZNAME:UTC
DTSTART:20220101T000000
END:STANDARD
END:VTIMEZONE
BEGIN:VEVENT
DTSTART;VALUE=DATE:20251108
DTEND;VALUE=DATE:20251109
DTSTAMP:20260423T185427
CREATED:20250206T111854Z
LAST-MODIFIED:20251210T173412Z
UID:25129-1762560000-1762646399@reconcileuk.com
SUMMARY:Evangelical Outreach November 29th\, 2025
DESCRIPTION:Paul raised critical questions in Romans 10:14-15\, “How then shall they call on Him in whom they have not believed? And how shall they believe in Him of whom they have not heard? And how shall they hear without a preacher? And how shall they preach unless they are sent?”. \nWe know from Mark 16:15 that Jesus said to them\, “Go into all the world and preach the gospel to all creation.” so we have been entrusted with this mission—to spread the message. \nJoin our dedicated volunteers as we respond to God’s call to reconcile all to Him. Together\, we can ensure that many get the opportunity to hear and believe in the life-transforming message of the gospel. \nFollow us on our socials for more details!
URL:https://reconcileuk.com/event/evangelical-outreach-november29th-2025/
LOCATION:London | Manchester | Birmingham | Liverpool\, United Kingdom
CATEGORIES:Faith Events
ATTACH;FMTTYPE=image/jpeg:https://reconcileuk.com/wp-content/uploads/2025/02/WhatsApp-Image-2025-11-04-at-17.00.08.jpeg
ORGANIZER;CN="Reconcile UK":MAILTO:reconcilegb@gmail.com
END:VEVENT
BEGIN:VEVENT
DTSTART;TZID=UTC:20250208T120000
DTEND;TZID=UTC:20250208T180000
DTSTAMP:20260423T185427
CREATED:20250208T110014Z
LAST-MODIFIED:20250206T105707Z
UID:24842-1739016000-1739037600@reconcileuk.com
SUMMARY:Evangelical Outreach - February 8th
DESCRIPTION:Paul raised critical questions in Romans 10:14-15\, “How then shall they call on Him in whom they have not believed? And how shall they believe in Him of whom they have not heard? And how shall they hear without a preacher? And how shall they preach unless they are sent?”. \nWe know from Mark 16:15 that Jesus said to them\, “Go into all the world and preach the gospel to all creation.” so we have been entrusted with this mission—to spread the message. \nJoin our dedicated volunteers as we respond to God’s call to reconcile all to Him. Together\, we can ensure that many get the opportunity to hear and believe in the life-transforming message of the gospel. \nFollow us on our socials for more details!
URL:https://reconcileuk.com/event/evangelical-outreach-february-8th/
LOCATION:London | Manchester | Birmingham | Liverpool\, United Kingdom
CATEGORIES:Faith Events
ORGANIZER;CN="Reconcile UK":MAILTO:reconcilegb@gmail.com
END:VEVENT
BEGIN:VEVENT
DTSTART;TZID=UTC:20241026T120000
DTEND;TZID=UTC:20241026T140000
DTSTAMP:20260423T185427
CREATED:20200504T170631Z
LAST-MODIFIED:20250120T103803Z
UID:23681-1729944000-1729951200@reconcileuk.com
SUMMARY:Evangelical Outreach -January 25th
DESCRIPTION:Paul raised critical questions in Romans 10:14-15\, “How then shall they call on Him in whom they have not believed? And how shall they believe in Him of whom they have not heard? And how shall they hear without a preacher? And how shall they preach unless they are sent?”. \nWe know from Mark 16:15 that Jesus said to them\, “Go into all the world and preach the gospel to all creation.” so we have been entrusted with this mission—to spread the message. \nJoin our dedicated volunteers as we respond to God’s call to reconcile all to Him. Together\, we can ensure that many get the opportunity to hear and believe in the life-transforming message of the gospel.
URL:https://reconcileuk.com/event/manchester-outreach-january-25th/
LOCATION:University Of Manchester\, University Of Manchester\, Manchester\, M13 9PL\, United Kingdom
CATEGORIES:Faith Events
ORGANIZER;CN="Reconcile UK":MAILTO:reconcilegb@gmail.com
END:VEVENT
BEGIN:VEVENT
DTSTART;TZID=UTC:20241026T120000
DTEND;TZID=UTC:20241026T140000
DTSTAMP:20260423T185427
CREATED:20200428T130523Z
LAST-MODIFIED:20240811T192146Z
UID:23678-1729944000-1729951200@reconcileuk.com
SUMMARY:Evangelical Outreach - October 26th
DESCRIPTION:Paul raised critical questions in Romans 10:14-15\, “How then shall they call on Him in whom they have not believed? And how shall they believe in Him of whom they have not heard? And how shall they hear without a preacher? And how shall they preach unless they are sent?”. \nWe know from Mark 16:15 that Jesus said to them\, “Go into all the world and preach the gospel to all creation.” so we have been entrusted with this mission—to spread the message. \nJoin our dedicated volunteers as we respond to God’s call to reconcile all to Him. Together\, we can ensure that many get the opportunity to hear and believe in the life-transforming message of the gospel.
URL:https://reconcileuk.com/event/london-outreach-october-26th/
LOCATION:Imperial College\, Imperial College\, London\, SW7 2AZ\, United Kingdom
CATEGORIES:Faith Events
ORGANIZER;CN="Reconcile UK":MAILTO:reconcilegb@gmail.com
END:VEVENT
BEGIN:VEVENT
DTSTART;TZID=UTC:20241012T120000
DTEND;TZID=UTC:20241012T140000
DTSTAMP:20260423T185427
CREATED:20220914T135147Z
LAST-MODIFIED:20240811T190646Z
UID:23159-1728734400-1728741600@reconcileuk.com
SUMMARY:Evangelical Outreach - October 12th
DESCRIPTION:Paul raised critical questions in Romans 10:14-15\, “How then shall they call on Him in whom they have not believed? And how shall they believe in Him of whom they have not heard? And how shall they hear without a preacher? And how shall they preach unless they are sent?”. \nWe know from Mark 16:15 that Jesus said to them\, “Go into all the world and preach the gospel to all creation.” so we have been entrusted with this mission—to spread the message. \nJoin our dedicated volunteers as we respond to God’s call to reconcile all to Him. Together\, we can ensure that many get the opportunity to hear and believe in the life-transforming message of the gospel.
URL:https://reconcileuk.com/event/london-outreach-october-12th/
LOCATION:Stratford\, Stratford\, London\, E15 1DE\, United Kingdom
CATEGORIES:Faith Events
ORGANIZER;CN="Reconcile UK":MAILTO:reconcilegb@gmail.com
END:VEVENT
BEGIN:VEVENT
DTSTART;TZID=UTC:20241012T120000
DTEND;TZID=UTC:20241012T140000
DTSTAMP:20260423T185427
CREATED:20220914T134926Z
LAST-MODIFIED:20240811T190915Z
UID:23156-1728734400-1728741600@reconcileuk.com
SUMMARY:Evangelical Outreach - October 12th
DESCRIPTION:Paul raised critical questions in Romans 10:14-15\, “How then shall they call on Him in whom they have not believed? And how shall they believe in Him of whom they have not heard? And how shall they hear without a preacher? And how shall they preach unless they are sent?”. \nWe know from Mark 16:15 that Jesus said to them\, “Go into all the world and preach the gospel to all creation.” so we have been entrusted with this mission—to spread the message. \nJoin our dedicated volunteers as we respond to God’s call to reconcile all to Him. Together\, we can ensure that many get the opportunity to hear and believe in the life-transforming message of the gospel.
URL:https://reconcileuk.com/event/manchester-outreach-october-12th/
LOCATION:University Of Manchester\, University Of Manchester\, Manchester\, M13 9PL\, United Kingdom
CATEGORIES:Faith Events
ORGANIZER;CN="Reconcile UK":MAILTO:reconcilegb@gmail.com
END:VEVENT
BEGIN:VEVENT
DTSTART;TZID=UTC:20240928T120000
DTEND;TZID=UTC:20240928T140000
DTSTAMP:20260423T185427
CREATED:20231027T205129Z
LAST-MODIFIED:20240811T185314Z
UID:24808-1727524800-1727532000@reconcileuk.com
SUMMARY:Evangelical Outreach - September 28th
DESCRIPTION:Paul raised critical questions in Romans 10:14-15\, “How then shall they call on Him in whom they have not believed? And how shall they believe in Him of whom they have not heard? And how shall they hear without a preacher? And how shall they preach unless they are sent?”. \nWe know from Mark 16:15 that Jesus said to them\, “Go into all the world and preach the gospel to all creation.” so we have been entrusted with this mission—to spread the message. \nJoin our dedicated volunteers as we respond to God’s call to reconcile all to Him. Together\, we can ensure that many get the opportunity to hear and believe in the life-transforming message of the gospel.
URL:https://reconcileuk.com/event/london-outreach-september-28th/
LOCATION:Trafalgar Square\, Trafalgar Square\, London\, WC2N 5DS\, United Kingdom
CATEGORIES:Faith Events
ORGANIZER;CN="Reconcile UK":MAILTO:reconcilegb@gmail.com
END:VEVENT
BEGIN:VEVENT
DTSTART;TZID=UTC:20240928T120000
DTEND;TZID=UTC:20240928T140000
DTSTAMP:20260423T185427
CREATED:20200428T122928Z
LAST-MODIFIED:20240811T184307Z
UID:23675-1727524800-1727532000@reconcileuk.com
SUMMARY:Evangelical Outreach - September 28th
DESCRIPTION:Paul raised critical questions in Romans 10:14-15\, “How then shall they call on Him in whom they have not believed? And how shall they believe in Him of whom they have not heard? And how shall they hear without a preacher? And how shall they preach unless they are sent?”. \nWe know from Mark 16:15 that Jesus said to them\, “Go into all the world and preach the gospel to all creation.” so we have been entrusted with this mission—to spread the message. \nJoin our dedicated volunteers as we respond to God’s call to reconcile all to Him. Together\, we can ensure that many get the opportunity to hear and believe in the life-transforming message of the gospel.
URL:https://reconcileuk.com/event/manchester-outreach-september-28th/
LOCATION:University Of Manchester\, University Of Manchester\, Manchester\, M13 9PL\, United Kingdom
CATEGORIES:Faith Events
ORGANIZER;CN="Reconcile UK":MAILTO:reconcilegb@gmail.com
END:VEVENT
BEGIN:VEVENT
DTSTART;TZID=UTC:20240914T120000
DTEND;TZID=UTC:20240914T140000
DTSTAMP:20260423T185427
CREATED:20231027T204213Z
LAST-MODIFIED:20240811T183515Z
UID:24809-1726315200-1726322400@reconcileuk.com
SUMMARY:Evangelical Outreach - September 14th
DESCRIPTION:Paul raised critical questions in Romans 10:14-15\, “How then shall they call on Him in whom they have not believed? And how shall they believe in Him of whom they have not heard? And how shall they hear without a preacher? And how shall they preach unless they are sent?”. \nWe know from Mark 16:15 that Jesus said to them\, “Go into all the world and preach the gospel to all creation.” so we have been entrusted with this mission—to spread the message. \nJoin our dedicated volunteers as we respond to God’s call to reconcile all to Him. Together\, we can ensure that many get the opportunity to hear and believe in the life-transforming message of the gospel.
URL:https://reconcileuk.com/event/london-outreach-september-14th/
LOCATION:Trafalgar Square\, Trafalgar Square\, London\, WC2N 5DS\, United Kingdom
CATEGORIES:Faith Events
ORGANIZER;CN="Reconcile UK":MAILTO:reconcilegb@gmail.com
END:VEVENT
BEGIN:VEVENT
DTSTART;TZID=UTC:20240914T120000
DTEND;TZID=UTC:20240914T140000
DTSTAMP:20260423T185427
CREATED:20200428T122832Z
LAST-MODIFIED:20240811T183430Z
UID:23674-1726315200-1726322400@reconcileuk.com
SUMMARY:Evangelical Outreach - September 14th
DESCRIPTION:Paul raised critical questions in Romans 10:14-15\, “How then shall they call on Him in whom they have not believed? And how shall they believe in Him of whom they have not heard? And how shall they hear without a preacher? And how shall they preach unless they are sent?”. \nWe know from Mark 16:15 that Jesus said to them\, “Go into all the world and preach the gospel to all creation.” so we have been entrusted with this mission—to spread the message. \nJoin our dedicated volunteers as we respond to God’s call to reconcile all to Him. Together\, we can ensure that many get the opportunity to hear and believe in the life-transforming message of the gospel.
URL:https://reconcileuk.com/event/manchester-outreach-september-14th/
LOCATION:University Of Manchester\, University Of Manchester\, Manchester\, M13 9PL\, United Kingdom
CATEGORIES:Faith Events
ORGANIZER;CN="Reconcile UK":MAILTO:reconcilegb@gmail.com
END:VEVENT
BEGIN:VEVENT
DTSTART;TZID=UTC:20231223T140000
DTEND;TZID=UTC:20231223T170000
DTSTAMP:20260423T185427
CREATED:20231208T095451Z
LAST-MODIFIED:20231208T105905Z
UID:24849-1703340000-1703350800@reconcileuk.com
SUMMARY:Christmas Outreach - December 23rd
DESCRIPTION:We are happy to announce our Reconcile Christmas Outreach in line with our last evangelism for the year where we will be providing Christmas goodie bags to the homeless and vulnerable groups in London and Manchester. \nGod cares for the homeless\, the poor and needy\, the fatherless and widows\, the immigrants and foreigners\, afflicted and suffering\, the helpless and hungry\, the lonely and brokenhearted\, the blind and broken\, the prisoner and oppressed \nJoin our volunteers as we spread the love of Jesus with our mouth and our resources to people in our local communities who are facing hardship this cold winter.
URL:https://reconcileuk.com/event/christmas-outreach-december-23rd-london/
LOCATION:London | Manchester | Birmingham | Liverpool\, United Kingdom
ATTACH;FMTTYPE=image/jpeg:https://reconcileuk.com/wp-content/uploads/2023/12/Christmas-Hero.jpg
ORGANIZER;CN="Reconcile UK":MAILTO:reconcilegb@gmail.com
END:VEVENT
BEGIN:VEVENT
DTSTART;TZID=UTC:20230812T110000
DTEND;TZID=UTC:20230812T130000
DTSTAMP:20260423T185427
CREATED:20220914T140932Z
LAST-MODIFIED:20230811T213410Z
UID:23167-1691838000-1691845200@reconcileuk.com
SUMMARY:Evangelical Outreach - August 12th
DESCRIPTION:
URL:https://reconcileuk.com/event/august-outreach-manchester/
LOCATION:St Peters Square\, St Peters Square Manchester\, Manchester\, Manchester\, M2 3AE\, United Kingdom
CATEGORIES:Faith Events
ATTACH;FMTTYPE=image/jpeg:https://reconcileuk.com/wp-content/uploads/2022/09/2936d490-9da6-4f82-8557-daaa2d3ad6da.jpg
ORGANIZER;CN="Reconcile UK":MAILTO:reconcilegb@gmail.com
END:VEVENT
BEGIN:VEVENT
DTSTART;TZID=UTC:20230812T110000
DTEND;TZID=UTC:20230812T130000
DTSTAMP:20260423T185427
CREATED:20200428T122515Z
LAST-MODIFIED:20230811T213555Z
UID:23676-1691838000-1691845200@reconcileuk.com
SUMMARY:Evangelical Outreach - August 12th
DESCRIPTION:
URL:https://reconcileuk.com/event/august-outreach-london/
LOCATION:London | Manchester | Birmingham | Liverpool\, United Kingdom
CATEGORIES:Faith Events
ATTACH;FMTTYPE=image/jpeg:https://reconcileuk.com/wp-content/uploads/2020/04/12d3cae7-0d28-47a4-9c6e-9ea405d49de7.jpg
ORGANIZER;CN="Reconcile UK":MAILTO:reconcilegb@gmail.com
END:VEVENT
END:VCALENDAR